BEGIN:VCALENDAR
VERSION:2.0
PRODID:-//Illinois Association of School Nurses - ECPv6.5.1.4//NONSGML v1.0//EN
CALSCALE:GREGORIAN
METHOD:PUBLISH
X-WR-CALNAME:Illinois Association of School Nurses
X-ORIGINAL-URL:https://www.iasn.org
X-WR-CALDESC:Events for Illinois Association of School Nurses
REFRESH-INTERVAL;VALUE=DURATION:PT1H
X-Robots-Tag:noindex
X-PUBLISHED-TTL:PT1H
BEGIN:VTIMEZONE
TZID:America/Chicago
BEGIN:DAYLIGHT
TZOFFSETFROM:-0600
TZOFFSETTO:-0500
TZNAME:CDT
DTSTART:20220313T080000
END:DAYLIGHT
BEGIN:STANDARD
TZOFFSETFROM:-0500
TZOFFSETTO:-0600
TZNAME:CST
DTSTART:20221106T070000
END:STANDARD
END:VTIMEZONE
BEGIN:VEVENT
DTSTART;TZID=America/Chicago:20221110T183000
DTEND;TZID=America/Chicago:20221110T200000
DTSTAMP:20260421T122236
CREATED:20221028T165043Z
LAST-MODIFIED:20221101T184248Z
UID:6158-1668105000-1668110400@www.iasn.org
SUMMARY:IASN Virtual Town Hall Meeting - Sponsored by Neurelis
DESCRIPTION:Please join IASN for a Virtual Town Hall Meeting on November 10th.\n1 CE Available. \nSPONSORED BY: \n \nZoom information will be at the bottom of the page after registering. \nFEATURED SPEAKER: \nDr. Elizabeth Pieroth \n \nElizabeth M. Pieroth\, PsyD\, ABPP\, MPH is a Board Certified Clinical Neuropsychologist and is the Director of the Concussion Program at Midwest Orthopaedics at Rush. She was most recently the Associate Director of the NorthShore University HealthSystem Sports Concussion Program. \nShe has been involved in the assessment of players in the National Hockey League since 1997 and is the Head Injury/Concussion specialist for the Chicago Bears\, Blackhawks\, White Sox\, Fire\, and the National Women’s Soccer League\, as well as numerous colleges and high schools across the State of Illinois.  Dr. Pieroth is the Co-Director of the NFL Neuropsychology Consulting Program.  She is also on the Board of Directors of the Brain Injury Association of Illinois and is a member of the USA Football Heads Up Advisory Committee\, the NFL Head\, Neck and Spine Committee\, the US Soccer Concussion Task Force and the Amateur Hockey Association of Illinois Safety Committee. She has been awarded the 2018 Chicago Illini of the Year Award\, the 2016 USA Hockey Excellence in Safety Award\, the University of Illinois 2016 LAS Alumni Achievement Award\, the 2014 AHAI Presidents Award\, and 2012 Brain Injury Association of IL Make A Difference Award. \nShe has published on concussion management and neuropsychological assessment.  Dr. Pieroth is recently completed her Masters in Public Health through the Medical College of Wisconsin. \n 
URL:https://www.iasn.org/event/iasn-virtual-town-hall-meeting-sponsored-by-neurelis/
END:VEVENT
END:VCALENDAR