BEGIN:VCALENDAR
VERSION:2.0
PRODID:-//Illinois Association of School Nurses - ECPv6.5.1.4//NONSGML v1.0//EN
CALSCALE:GREGORIAN
METHOD:PUBLISH
X-WR-CALNAME:Illinois Association of School Nurses
X-ORIGINAL-URL:https://www.iasn.org
X-WR-CALDESC:Events for Illinois Association of School Nurses
REFRESH-INTERVAL;VALUE=DURATION:PT1H
X-Robots-Tag:noindex
X-PUBLISHED-TTL:PT1H
BEGIN:VTIMEZONE
TZID:America/Chicago
BEGIN:DAYLIGHT
TZOFFSETFROM:-0600
TZOFFSETTO:-0500
TZNAME:CDT
DTSTART:20220313T080000
END:DAYLIGHT
BEGIN:STANDARD
TZOFFSETFROM:-0500
TZOFFSETTO:-0600
TZNAME:CST
DTSTART:20221106T070000
END:STANDARD
END:VTIMEZONE
BEGIN:VEVENT
DTSTART;TZID=America/Chicago:20220608T080000
DTEND;TZID=America/Chicago:20220901T170000
DTSTAMP:20260422T182514
CREATED:20220608T191915Z
LAST-MODIFIED:20220609T211050Z
UID:6037-1654675200-1662051600@www.iasn.org
SUMMARY:IASN Student Membership Raffle
DESCRIPTION:The IASN Board of Directors is excited to raffle of 65 complimentary Student Memberships to IASN! To enter the raffle\, please use the link below to submit your contact info. \nRAFFLE ENTRY \nThe winners will be announced the week of August 19th. Please watch your emails for notification if selected. \nGOOD LUCK!
URL:https://www.iasn.org/event/iasn-student-membership-raffle/
END:VEVENT
BEGIN:VEVENT
DTSTART;TZID=America/Chicago:20220616T090000
DTEND;TZID=America/Chicago:20220616T133000
DTSTAMP:20260422T182514
CREATED:20220525T220552Z
LAST-MODIFIED:20220607T160700Z
UID:6017-1655370000-1655386200@www.iasn.org
SUMMARY:Nitty Gritty School Nursing: Care of Children with Medical Complexity - School Nurses Workshop
DESCRIPTION:Nitty Gritty School Nursing: Care of Children with Medical Complexity – School Nurses Workshop\nJune 16\, 2022 \n9:00 AM -1:30 PM \nLocation: UI Springfield College of Nursing Simulation Lab \nNurses will receive instruction on common skills required to care for children with medical complexity.  Skills include: \n\nClean Intermittent Catheterization; male\, female\, stoma\nTracheostomy Care and suctioning\nFeeding tubes\nCentral Venous Catheter Care\n\nPrior to the workshop participants will receive copies of skills checklists and narrated PowerPoints to prepare for the workshop. \nAt the workshop participants will receive hands-on-instruction and practice the skills with supervision in the simulation lab. \nParticipants will be requested to complete a pretest prior to the workshop and complete a posttest and workshop evaluation prior to receiving nursing continuing education credits. \nUp to 6 Continuing nursing education credits hours have been applied for from the Illinois Nurses Foundation in accordance with ANCC criteria. \nCost: $50.00/IASN MEMBER & $65.00/NON MEMBER \nAttendance is limited to 30 participants! NO REFUNDS WILL BE OFFERED AFTER REGISTERING.
URL:https://www.iasn.org/event/nitty-gritty-school-nursing-care-of-children-with-medical-complexity-school-nurses-workshop/
LOCATION:UI Springfield College of Nursing Simulation Lab\, One University Drive - Student Affairs Building\, Parking Lot A\, Springfield\, IL\, 62703\, United States
END:VEVENT
END:VCALENDAR