BEGIN:VCALENDAR
VERSION:2.0
PRODID:-//Illinois Association of School Nurses - ECPv6.5.1.4//NONSGML v1.0//EN
CALSCALE:GREGORIAN
METHOD:PUBLISH
X-ORIGINAL-URL:https://www.iasn.org
X-WR-CALDESC:Events for Illinois Association of School Nurses
REFRESH-INTERVAL;VALUE=DURATION:PT1H
X-Robots-Tag:noindex
X-PUBLISHED-TTL:PT1H
BEGIN:VTIMEZONE
TZID:America/Chicago
BEGIN:DAYLIGHT
TZOFFSETFROM:-0600
TZOFFSETTO:-0500
TZNAME:CDT
DTSTART:20220313T080000
END:DAYLIGHT
BEGIN:STANDARD
TZOFFSETFROM:-0500
TZOFFSETTO:-0600
TZNAME:CST
DTSTART:20221106T070000
END:STANDARD
END:VTIMEZONE
BEGIN:VEVENT
DTSTART;TZID=America/Chicago:20220409T083000
DTEND;TZID=America/Chicago:20220409T130000
DTSTAMP:20260423T064128
CREATED:20220307T211511Z
LAST-MODIFIED:20220331T185707Z
UID:5936-1649493000-1649509200@www.iasn.org
SUMMARY:Nitty Gritty School Nursing: Care of Children with Medical Complexity
DESCRIPTION:Nitty Gritty School Nursing: Care of Children with Medical Complexity\nApril 9\, 2022 \n8:30-1:00 PM \nLocation : UIC College of Nursing Simulation Lab \nLearn and practice skills in the UIC College of Nursing Schwartz Simulation Lab. \nNurses will receive instruction on common skills required to care for children with medical complexity.  Skills include: \n\nClean Intermittent Catherization; male\, female\, stoma\nTracheostomy Care and suctioning\nFeeding tubes\nCentral Venous Catheter Care and dressing changes\n\n  \nPrior to the workshop participants will receive copies of skills checklists and narrated PowerPoints to prepare for the workshop. \nAt the workshop participants will receive hands-on-instruction and practice the skills with supervision in the simulation lab. \nParticipants will be requested to complete a pretest prior to the workshop and complete a posttest and workshop evaluation prior to receiving nursing continuing education credits. \nUp to 6 Continuing nursing education credits have been applied for from the Illinois Nurses Foundation. \nAttendance is limited to 30 participants  – ONLY 8 SPOTS OPEN AT THIS TIME!
URL:https://www.iasn.org/event/nitty-gritty-school-nursing-care-of-children-with-medical-complexity/
LOCATION:UI Springfield College of Nursing Simulation Lab\, One University Drive - Student Affairs Building\, Parking Lot A\, Springfield\, IL\, 62703\, United States
END:VEVENT
END:VCALENDAR