BEGIN:VCALENDAR
VERSION:2.0
PRODID:-//Illinois Association of School Nurses - ECPv6.5.1.4//NONSGML v1.0//EN
CALSCALE:GREGORIAN
METHOD:PUBLISH
X-WR-CALNAME:Illinois Association of School Nurses
X-ORIGINAL-URL:https://www.iasn.org
X-WR-CALDESC:Events for Illinois Association of School Nurses
REFRESH-INTERVAL;VALUE=DURATION:PT1H
X-Robots-Tag:noindex
X-PUBLISHED-TTL:PT1H
BEGIN:VTIMEZONE
TZID:America/Chicago
BEGIN:DAYLIGHT
TZOFFSETFROM:-0600
TZOFFSETTO:-0500
TZNAME:CDT
DTSTART:20210314T080000
END:DAYLIGHT
BEGIN:STANDARD
TZOFFSETFROM:-0500
TZOFFSETTO:-0600
TZNAME:CST
DTSTART:20211107T070000
END:STANDARD
END:VTIMEZONE
BEGIN:VEVENT
DTSTART;VALUE=DATE:20211001
DTEND;VALUE=DATE:20211003
DTSTAMP:20260425T144828
CREATED:20210630T181727Z
LAST-MODIFIED:20210630T192959Z
UID:5775-1633046400-1633219199@www.iasn.org
SUMMARY:2021 Virtual IASN Conference - Sponsorship Opportunities
DESCRIPTION:Sponsorships – Thriving in School Nursing: Transforming Student Health – 2021 Virtual IASN Conference \nThis conference is an opportunity for companies and organizations to exhibit services\, information or products of interest to School Nurses and public health. We are inviting your organization to partner with us a sponsor for this event. \nPlatinum Sponsorship  $3\,500 \n\nRecognition on Conference Materials\nOption to welcome Keynote Speaker\, Keith Carlson\nComplimentary Attendance for 2\nVirtual Exhibitor Profile on Event Platform\n– Linked Logo\n– Company Information\n– Social Media Links\n– Downloaded PDF Resources (up to 3)\n– Company listed on Virtual Platform Homepage – Linked Logo\n– Embedded YouTube Video\nFull Page advertisement in Conference Materials\n\n  \nGold Sponsorship  $2\,500 \n\nRecognition on Conference Materials\nVirtual Exhibitor Profile on Event Platform\n– Linked Logo\n– Company Description\n– Contact Information\n– Social Media Links\n– Downloaded PDF Resources (up to 2)\n– Company listed on Virtual Platform Homepage – Linked Name\nComplimentary Attendance for 1\nHalf page advertisement in Conference Brochure\n\n  \nSilver Sponsorship  $1\,000 \n\nRecognition on Conference Materials\nVirtual Exhibitor Profile on Event Platform\n– Linked Logo\n– Company Description\n– Contact Information\n– Social Media Links\n– Downloaded PDF Resources (1)\nHalf page advertisement in Conference Brochure\n\nPlease contact Kristy Dugan at kristy@sysconsultingsolutions.com for any questions.
URL:https://www.iasn.org/event/2021-virtual-iasn-conference-sponsorship-opportunities/
END:VEVENT
BEGIN:VEVENT
DTSTART;TZID=America/Chicago:20211001T190000
DTEND;TZID=America/Chicago:20211002T153000
DTSTAMP:20260425T144828
CREATED:20210806T175724Z
LAST-MODIFIED:20211001T235155Z
UID:5807-1633114800-1633188600@www.iasn.org
SUMMARY:64th Annual Virtual IASN Conference - Thriving in School Nursing: Transforming Student Health
DESCRIPTION:Registration for this event has closed. Please watch for the On-Demand offering coming soon. \nThriving in School Nursing: Transforming Student Health \nThe IASN board is proud to offer a virtual experience for our members. As we continue to deal with the COVID-19 pandemic\, it was important to IASN to offer an opportunity for school nurses to come together to be inspired\, empowered\, and re-energized. \nSeptember 23rd – Virtual Annual Meeting\n7:00 pm – 8:30 pm\nReport from the President\nReport from the Treasurer\nBylaws Amendments\nSwearing in of new officers\nDetailed agenda is pending \nDisclosures: No conflict of interest is present on the part of the planning team. Speaker disclosures will be made at the time of the individual presentations. \nFriday\, October 1st – Virtual Pre-Conference\nScreening of Resilience: The Biology of Stress & the Science of Hope\nThe original research was controversial\, but the findings revealed the most important public health findings of a generation. RESILIENCE is a one-hour documentary that delves into the science of Adverse Childhood Experiences (ACEs) and the birth of a new movement to treat and prevent Toxic Stress. Now understood to be one of the leading causes of every- thing from heart disease and cancer to substance abuse and depression\, extremely stressful experiences in childhood can alter brain development and have lifelong effects on health and behavior. \nHowever\, as experts and practitioners profiled in RESILIENCE are proving\, what’s predictable is preventable. These physicians\, educators\, social workers and communities are daring to talk about the effects of divorce\, abuse and neglect. And they’re using cutting edge science to help the next generation break the cycles of adversity and disease. \n7:00 PM:  Screening Begins (#IASN21Screening)\n8:05 – 8:15 PM: BREAK\n8:30 PM:  Roundtable Discussions led by IASN Board \nSaturday\, October 2nd – Virtual Conference\n9:00-9:05 AM:  Meeting opens\, Virtual meeting rules review\n9:05-9:15 AM: President Welcome & Board Introductions\n9:15-10:15 AM:  Keith Carlson BSN\, RN\, NC-BC Keynote – Thriving Amidst the Chaos: The Mindful Nurse Rides the Waves\n10:15-10:20 AM: BREAK\n10:20-10:40 AM: School Nurse of the Year & IASN Foundation Grant Award Presentation\n10:40-11:15 AM IASN Talks\n11:15-12:00 PM:  LUNCH BREAK\n12:00-1:00 PM: COVID Update with Dr. Emily Landon\, MD\n1:00-1:05 PM: BREAK\n1:05-2:05 PM: Caring for students with asthma: an evidence-based approach; Anna Volerman\, MD\, Associate Professor of Medicine and Pediatrics at University of Chicago; Illinois Asthma Partnership\n2:05-3:15 PM Amplifying Your Voice as a School Nurse by Robin Cogan MEd\, RN\, NCSN\n3:15-3:20 PM Giveaways presented by NASN Director and Wrap Up \nKeynote Speaker – Keith Carlson RN\, BSN\, NC-BC \n \nNurse Keith has over two decades of experience in nursing and healthcare as a clinician\, administrator\, and entrepreneur. \nAs an accomplished speaker\, writer\, blogger\, podcaster\, consultant\, and holistic career coach for nurses\, Keith has his finger on the pulse of 21st-century nursing. He keenly understands the challenges faced by nursing professionals and healthcare organizations. \nKeith’s well-known nursing podcasts — The Nurse Keith Show and RNFM Radio — reach listeners on six continents. His message of savvy career advice for nurses has been featured by Nurse.com\, Nurse.org\, Working Nurse Magazine\, American Sentinel University\, MultiBriefs News Service\, StaffGarden\, American Nurse Today\, NursingCE.com\, Health eCareers\, among others. \nKeith is a Board Certified Nurse Coach (NC-BC) and has logged more than 1\,000 hours providing holistic career coaching for nurses throughout the United States. \nRegistration Fees\nIASN Members – $49\nNon Members – $79\nInterested in being a sponsor?\nFind out more about our sponsorship options here.
URL:https://www.iasn.org/event/64th-annual-virtual-iasn-conference-thriving-in-school-nursing-transforming-student-health/
END:VEVENT
BEGIN:VEVENT
DTSTART;TZID=America/Chicago:20211002T150000
DTEND;TZID=America/Chicago:20211218T233000
DTSTAMP:20260425T144828
CREATED:20211013T194707Z
LAST-MODIFIED:20211013T194846Z
UID:5870-1633186800-1639870200@www.iasn.org
SUMMARY:ON DEMAND - 64th Annual Virtual IASN Conference - Thriving in School Nursing: Transforming Student Health
DESCRIPTION:Thriving in School Nursing: Transforming Student Health \nThe IASN board is proud to offer a virtual experience for our members. As we continue to deal with the COVID-19 pandemic\, it was important to IASN to offer an opportunity for school nurses to come together to be inspired\, empowered\, and re-energized. \nSchedule of Events: \n9:00-9:05 AM:  Meeting opens\, Virtual meeting rules review\n9:05-9:15 AM: President Welcome & Board Introductions\n9:15-10:15 AM: Keith Carlson BSN\, RN\, NC-BC Keynote – Thriving Amidst the Chaos: The Mindful Nurse Rides the Waves\n10:15-10:20 AM: BREAK\n10:20-10:40 AM: School Nurse of the Year & IASN Foundation Grant Award Presentation\n10:40-11:15 AM IASN Talks\n11:15-12:00 PM:  LUNCH BREAK\n12:00-1:00 PM: COVID Update with Dr. Emily Landon\, MD\n1:00-1:05 PM: BREAK\n1:05-2:05 PM: Caring for students with asthma: an evidence-based approach; Anna Volerman\, MD\, Associate Professor of Medicine and Pediatrics at University of Chicago; Illinois Asthma Partnership\n2:05-3:15 PM Amplifying Your Voice as a School Nurse by Robin Cogan MEd\, RN\, NCSN\n3:15-3:20 PM Giveaways presented by NASN Director and Wrap Up \nKeynote Speaker – Keith Carlson RN\, BSN\, NC-BC \n \nNurse Keith has over two decades of experience in nursing and healthcare as a clinician\, administrator\, and entrepreneur. \nAs an accomplished speaker\, writer\, blogger\, podcaster\, consultant\, and holistic career coach for nurses\, Keith has his finger on the pulse of 21st-century nursing. He keenly understands the challenges faced by nursing professionals and healthcare organizations. \nKeith’s well-known nursing podcasts — The Nurse Keith Show and RNFM Radio — reach listeners on six continents. His message of savvy career advice for nurses has been featured by Nurse.com\, Nurse.org\, Working Nurse Magazine\, American Sentinel University\, MultiBriefs News Service\, StaffGarden\, American Nurse Today\, NursingCE.com\, Health eCareers\, among others. \nKeith is a Board Certified Nurse Coach (NC-BC) and has logged more than 1\,000 hours providing holistic career coaching for nurses throughout the United States. \nON-DEMAND Pricing:\nIASN Members – $49\nNon Members – $79
URL:https://www.iasn.org/event/on-demand-64th-annual-virtual-iasn-conference-thriving-in-school-nursing-transforming-student-health/
END:VEVENT
END:VCALENDAR