BEGIN:VCALENDAR
VERSION:2.0
PRODID:-//Illinois Association of School Nurses - ECPv6.5.1.4//NONSGML v1.0//EN
CALSCALE:GREGORIAN
METHOD:PUBLISH
X-WR-CALNAME:Illinois Association of School Nurses
X-ORIGINAL-URL:https://www.iasn.org
X-WR-CALDESC:Events for Illinois Association of School Nurses
REFRESH-INTERVAL;VALUE=DURATION:PT1H
X-Robots-Tag:noindex
X-PUBLISHED-TTL:PT1H
BEGIN:VTIMEZONE
TZID:America/Chicago
BEGIN:DAYLIGHT
TZOFFSETFROM:-0600
TZOFFSETTO:-0500
TZNAME:CDT
DTSTART:20210314T080000
END:DAYLIGHT
BEGIN:STANDARD
TZOFFSETFROM:-0500
TZOFFSETTO:-0600
TZNAME:CST
DTSTART:20211107T070000
END:STANDARD
END:VTIMEZONE
BEGIN:VEVENT
DTSTART;TZID=America/Chicago:20210804T080000
DTEND;TZID=America/Chicago:20210904T170000
DTSTAMP:20260425T224420
CREATED:20210804T175839Z
LAST-MODIFIED:20210804T175839Z
UID:5805-1628064000-1630774800@www.iasn.org
SUMMARY:School Nurse Emergency Care Course
DESCRIPTION:Illinois Emergency Medical Services for Children (EMSC) is pleased to announce that an online School Nurse Emergency Care (SNEC) course is now available.  This online training is based on the original in-person\, 3-day SNEC course and is designed to enhance the assessment\, triaging\, and treatment skills of the school nurse when confronted with the acutely ill or injured student. \nThe course is comprised of 17 course modules and 5 skill demonstrations\, so the course will take several sittings to complete.  Successful completion of the course requires completion of all 17 modules\, 5 skill demonstration videos\, a passing score of at least 84% on the course exam\, and completion of the course evaluation.  Thirteen (13) continuing education hours are provided through an Illinois Department of Public Health (IDPH) site code (applicable for Illinois nurses). \nThere is no registration fee.  The course is hosted by the University of Illinois Public Health Learning platform.  You can access course information via the EMSC website at: https://www.luriechildrens.org/en/emergency-medical-services-for-children/education/school-nurses/snec—online-course/ \nOr you can directly access the online SNEC course by following the steps below: \n\nGo to https://www.publichealthlearning.com\nClick on Course Offerings\nSelect Illinois Emergency Medical Services for Children (EMSC)\nSelect the School Nurse Emergency Care (SNEC) course\nIf you have an account\, log in using your username and password. If you do not have an account\, click “Create an Account”\, and follow the prompts\n\nIf you should have any questions\, please contact Ramona Rendon\, Administrative Assistant at rrendon@luriechildrens.org.
URL:https://www.iasn.org/event/school-nurse-emergency-care-course/
END:VEVENT
BEGIN:VEVENT
DTSTART;TZID=America/Chicago:20210806T083000
DTEND;TZID=America/Chicago:20210806T153000
DTSTAMP:20260425T224420
CREATED:20210722T183014Z
LAST-MODIFIED:20210722T183014Z
UID:5797-1628238600-1628263800@www.iasn.org
SUMMARY:The University of Chicago Second Annual Comer School Nurses Continuing Education Day
DESCRIPTION:This activity will provide updates to school nurses and other clinicians to prepare for the start of the school year. Especially with the past year being so heavily focused on COVID-19\, nurses need to be prepared for new school criteria and restrictions that aligns with the best interests of their students. This activity will include case-based discussions on topics vital to the success of school nurses and offer insight into a variety of experiences a school nurse or clinician will encounter. It will also showcase the latest information by experts in the field so participants can provide the highest level of care to the unique population they serve. \n\nTarget Audience\n\n\n\nThis activity is designed for physicians\, nurses\, and other healthcare professionals dedicated to the treatment of children and youth in a school setting.\n\n\n\n\n\nLearning Objectives\n\n\n\nAt the conclusion of this educational activity\, participants will be able to:\n\nIdentify the most up to date concerns and solutions for celiac disease\, irritable bowel syndrome\, and gastrointestinal disorders in school-aged children;\nDiscuss the best procedures for children dealing with epilepsy and seizure disorders;\nIdentify updated research on food allergies and asthma;\nDescribe the most recent information for diabetes management and technology in school-aged children;\nAnalyze the school nurse’s role in managing COVID-19 that aligns with a school’s best practices;\nDescribe how to best approach sleep disorders in school-aged children;\nIdentify solutions to managing students with anxiety and depression.\n\nAvailable credit: \n\n\n\n\n7.50 AMA PRA Category 1 Credit™\n7.50 Nursing Contact Hours\n7.50 Participation\n\nThis activity is generously sponsored by the Sunshine Charitable Foundation. \nRegister Here: https://web.cvent.com/event/20f1bda5-c83b-4cde-8a69-ebe07900faf8/summary
URL:https://www.iasn.org/event/the-university-of-chicago-second-annual-comer-school-nurses-continuing-education-day/
END:VEVENT
END:VCALENDAR