BEGIN:VCALENDAR
VERSION:2.0
PRODID:-//Illinois Association of School Nurses - ECPv6.5.1.4//NONSGML v1.0//EN
CALSCALE:GREGORIAN
METHOD:PUBLISH
X-WR-CALNAME:Illinois Association of School Nurses
X-ORIGINAL-URL:https://www.iasn.org
X-WR-CALDESC:Events for Illinois Association of School Nurses
REFRESH-INTERVAL;VALUE=DURATION:PT1H
X-Robots-Tag:noindex
X-PUBLISHED-TTL:PT1H
BEGIN:VTIMEZONE
TZID:America/Chicago
BEGIN:DAYLIGHT
TZOFFSETFROM:-0600
TZOFFSETTO:-0500
TZNAME:CDT
DTSTART:20260308T080000
END:DAYLIGHT
BEGIN:STANDARD
TZOFFSETFROM:-0500
TZOFFSETTO:-0600
TZNAME:CST
DTSTART:20261101T070000
END:STANDARD
END:VTIMEZONE
BEGIN:VEVENT
DTSTART;TZID=America/Chicago:20260508T080000
DTEND;TZID=America/Chicago:20260508T120000
DTSTAMP:20260423T180348
CREATED:20260420T205944Z
LAST-MODIFIED:20260420T205944Z
UID:8679-1778227200-1778241600@www.iasn.org
SUMMARY:Annual School Nurses Half Day Conference
DESCRIPTION:      \nFriday\, May 8\, 2026\, 8 a.m.-12 p.m.\nConference will be presented via Zoom\nConference outcome: Participants will describe with detail how at least one concept or practice idea presented will be integrated into their practice and setting. \nParticipants will receive 4.0 contact hours for successful completion of this activity—attendance for the entire conference and completion of a post activity evaluation. Questions about continuing education contact hours should be made to: Mary Girardi MSN RN PEL-CSN at mjg4361@gmail.com. \nIllinois Nurses Foundation is approved as a provider of nursing continuing professional development by Montana Nurses Association\, an accredited approver with distinction by the American Nurses Credentialing Center’s Commission on Accreditation. \nSCHEDULE:\n8:00 – 9:00 a.m. – Endocrinology Conditions & Possible Emergencies in Schools\nSpeaker: Dr Magdalena Dumin\, MD\, Physician Endocrinologist Pediatrics \n9:00 – 10:00 a.m. – Communicable Diseases Prevention & Control Updates\nSpeaker: Dr. Evan Facer\, DO\, Pediatrics\, Infectious Disease \n10:00 – 10:30 a.m. – Cardiac Response & Emergency Preparedness in Schools Review of IL School Code & Nurses’ Role\nSpeaker: Jeffrey Judge MSN\, RN\, PEL-CSN   ISBE Director of Wellness and Student Care \n10:30 – 11:00 a.m. – Mass Cardiac Screening in Schools (Pros and Cons)\nSpeaker: Jack Kamenske\, MSN\, RN\, FNP-BC\, Advanced Practice Registered Nurse Specialty Non-Procedural \n11:00 – 12:00 p.m. – Children in Schools with Ventilators &/or Tracheostomies Panel Discussion\nSpeakers: Dr. Ruby Roy MD; Dr. Shimoni Dharia\, MD\, MBA\, CPE; Elise Gentile APN; Beverly Lullo MS\, RRT-NPS & Corinne Jones MSN\, RN\, PEL-CSN\, NCSN \nThis program will be recorded – however\, the recording will only be shared with those who are registered to attend.\nThe registration for this event has reached its limit.
URL:https://www.iasn.org/event/annual-school-nurses-half-day-conference-3/
LOCATION:IL
END:VEVENT
BEGIN:VEVENT
DTSTART;TZID=America/Chicago:20260528T180000
DTEND;TZID=America/Chicago:20260528T193000
DTSTAMP:20260423T180348
CREATED:20260423T184158Z
LAST-MODIFIED:20260423T184158Z
UID:8685-1779991200-1779996600@www.iasn.org
SUMMARY:Virtual Town Hall - Navigating School Medicaid Billing: A Live Q&A
DESCRIPTION:Navigating School Medicaid Billing: A Live Q&A with Kimberly Silvey \nDate: May 28\nTime: 6:00–7:30 p.m \nThis session is led by Kimberly Silvey\, Ed.S.\, a seasoned expert with experience supporting over 500 Illinois districts. A former special education teacher and administrator\, Kimberly now serves as a private consultant and Principal Consultant for School Medicaid with the Illinois State Board of Education (ISBE)\, bringing unmatched insight into current policy and practice. \n\n\n                \n                        Registrant InformationName*\n                            \n                            \n                                                    \n                                                    First\n                                                \n                            \n                            \n                                                    \n                                                    Last\n                                                \n                            \n                        Email*\n                            \n                        School District*Home Address*    \n                    \n                         \n                                        \n                                        Street Address\n                                    \n                                    \n                                    City\n                                 \n                                        AlabamaAlaskaAmerican SamoaArizonaArkansasCaliforniaColoradoConnecticutDelawareDistrict of ColumbiaFloridaGeorgiaGuamHawaiiIdahoIllinoisIndianaIowaKansasKentuckyLouisianaMaineMarylandMassachusettsMichiganMinnesotaMississippiMissouriMontanaNebraskaNevadaNew HampshireNew JerseyNew MexicoNew YorkNorth CarolinaNorth DakotaNorthern Mariana IslandsOhioOklahomaOregonPennsylvaniaPuerto RicoRhode IslandSouth CarolinaSouth DakotaTennesseeTexasUtahU.S. Virgin IslandsVermontVirginiaWashingtonWest VirginiaWisconsinWyomingArmed Forces AmericasArmed Forces EuropeArmed Forces Pacific\n                                        State\n                                      \n                                    \n                                    ZIP Code
URL:https://www.iasn.org/event/virtual-town-hall-navigating-school-medicaid-billing-a-live-qa/
LOCATION:IL
END:VEVENT
END:VCALENDAR