BEGIN:VCALENDAR
VERSION:2.0
PRODID:-//Illinois Association of School Nurses - ECPv6.5.1.4//NONSGML v1.0//EN
CALSCALE:GREGORIAN
METHOD:PUBLISH
X-ORIGINAL-URL:https://www.iasn.org
X-WR-CALDESC:Events for Illinois Association of School Nurses
REFRESH-INTERVAL;VALUE=DURATION:PT1H
X-Robots-Tag:noindex
X-PUBLISHED-TTL:PT1H
BEGIN:VTIMEZONE
TZID:America/Chicago
BEGIN:DAYLIGHT
TZOFFSETFROM:-0600
TZOFFSETTO:-0500
TZNAME:CDT
DTSTART:20220313T080000
END:DAYLIGHT
BEGIN:STANDARD
TZOFFSETFROM:-0500
TZOFFSETTO:-0600
TZNAME:CST
DTSTART:20221106T070000
END:STANDARD
END:VTIMEZONE
BEGIN:VEVENT
DTSTART;TZID=America/Chicago:20220227T100000
DTEND;TZID=America/Chicago:20220227T110000
DTSTAMP:20260423T141901
CREATED:20220215T225048Z
LAST-MODIFIED:20220215T225048Z
UID:5917-1645956000-1645959600@www.iasn.org
SUMMARY:Coffee with the Board
DESCRIPTION:Join us for Coffee with the Board on Sunday\, February 27th at 10:00 AM. We look forward to chatting with you and just checking in.\n\nJoin the conversation on February 27th with the Zoom info below.\n\nJoin Zoom Meeting\nhttps://us02web.zoom.us/j/88061819802?pwd=KzQvYnJxaWRvQzBHRnhFNHlQTHhNZz09 \nMeeting ID: 880 6181 9802\nPasscode: 818820
URL:https://www.iasn.org/event/coffee-with-the-board-4/
LOCATION:https://us02web.zoom.us/j/88061819802?pwd=KzQvYnJxaWRvQzBHRnhFNHlQTHhNZz09
END:VEVENT
END:VCALENDAR