BEGIN:VCALENDAR
VERSION:2.0
PRODID:-//Illinois Association of School Nurses - ECPv6.5.1.4//NONSGML v1.0//EN
CALSCALE:GREGORIAN
METHOD:PUBLISH
X-WR-CALNAME:Illinois Association of School Nurses
X-ORIGINAL-URL:https://www.iasn.org
X-WR-CALDESC:Events for Illinois Association of School Nurses
REFRESH-INTERVAL;VALUE=DURATION:PT1H
X-Robots-Tag:noindex
X-PUBLISHED-TTL:PT1H
BEGIN:VTIMEZONE
TZID:America/Chicago
BEGIN:DAYLIGHT
TZOFFSETFROM:-0600
TZOFFSETTO:-0500
TZNAME:CDT
DTSTART:20220313T080000
END:DAYLIGHT
BEGIN:STANDARD
TZOFFSETFROM:-0500
TZOFFSETTO:-0600
TZNAME:CST
DTSTART:20221106T070000
END:STANDARD
END:VTIMEZONE
BEGIN:VEVENT
DTSTART;TZID=America/Chicago:20220210T183000
DTEND;TZID=America/Chicago:20220210T200000
DTSTAMP:20260423T180636
CREATED:20220117T195834Z
LAST-MODIFIED:20220120T201227Z
UID:5898-1644517800-1644523200@www.iasn.org
SUMMARY:Town Hall Meeting - School Nurse Updates from IDPH & ISBE: A Roundtable Discussion
DESCRIPTION:February Town Hall Meeting – School Nurse Updates from IDPH & ISBE: A Roundtable Discussion \nSponsored by: JCC Camp Chi \n \nIntro by President Gloria E. Barrera \nRoundtable Discussion Moderated by NASN Director Dr. Cathy Yonkaitis \nPanelist: Theresa Zumba\, Becky Doran & Miranda Scott \n\nMiranda Scott \nMiranda Scott received her Bachelor of Science in Nursing\, Master of Arts in Legal Studies\, and Master of Business Administration degrees from the University of Illinois at Springfield. Ms. Scott has held various roles in the nursing clinical arena including student mentor\, manager\, and educator. She joined the Office of Women’s of Health and Family Services team at the Illinois Department of Public Health in June 2015. In September 2021\, Ms. Scott transitioned to her new role as School Health Program Administrator. In her previous government service\, Ms. Scott has worked as a Legal Nurse Consultant enjoying various advisory roles including Freedom of Information Officer and HIPAA Privacy Officer. \n\nTheresa Zumba \nTheresa Zumba joined the Illinois State Board of Education in April 2021 as a School Nurse Consultant. Prior to entering school nursing Theresa worked both in and outpatient psychiatric nursing and pediatric endocrinology fields. Theresa then transitioned to working as a building school nurse (preschool to grade 2) in a three-school district in a suburb of Chicago. Theresa earned her IEP designation and then went on to earn her PEL CSN from Mennonite College of Nursing. She brings varied experience to the field of school nurse consulting. \n\nBecky Doran \nRebecca (Becky) Doran as School Nurse Consultant is an advocate for implementing Whole School\, Whole Child\, and Whole Community (WSCC) model strategies for the youth in Illinois Schools. She joined Illinois State Board of Education\, following experiences in Higher Education\, Community Health and Emergency/Urgent Care settings. It is her desire to integrate administrative concepts of public health and healthcare into the school setting\, while enhancing the school environment through holistic supports for all members of the school community. She is a contributing author to two published articles related to pediatric case management and nursing education in the school setting. \nOnce you have registered\, please read the confirmation page for further information regarding Zoom links. \nLearn more about our February Town Hall Sponsor: https://campchi.jccchicago.org/
URL:https://www.iasn.org/event/town-hall-meeting-school-nurse-updates-from-idph-isbe-a-roundtable-discussion/
END:VEVENT
END:VCALENDAR